rBEGIN:VCALENDAR
VERSION:2.0
PRODID:-//Shirdi Sai Sansthan - ECPv5.3.2.1//NONSGML v1.0//EN
CALSCALE:GREGORIAN
METHOD:PUBLISH
X-WR-CALNAME:Shirdi Sai Sansthan
X-ORIGINAL-URL:https://shirdisai.net.au
X-WR-CALDESC:Events for Shirdi Sai Sansthan
BEGIN:VTIMEZONE
TZID:UTC
BEGIN:STANDARD
TZOFFSETFROM:+0000
TZOFFSETTO:+0000
TZNAME:UTC
DTSTART:20210101T000000
END:STANDARD
END:VTIMEZONE
BEGIN:VEVENT
DTSTART;TZID=UTC:20210209T180000
DTEND;TZID=UTC:20210209T200000
DTSTAMP:20210227T025013
CREATED:20210115T063149Z
LAST-MODIFIED:20210115T063149Z
UID:18940-1612893600-1612900800@shirdisai.net.au
SUMMARY:Pradosham Pooja
DESCRIPTION:
URL:https://shirdisai.net.au/event/pradosham-pooja/
LOCATION:SHIRDI MANDIR \, CAMBERWELL
END:VEVENT
BEGIN:VEVENT
DTSTART;TZID=UTC:20210212T080000
DTEND;TZID=UTC:20210226T170000
DTSTAMP:20210227T025013
CREATED:20210212T092949Z
LAST-MODIFIED:20210212T092949Z
UID:19305-1613116800-1614358800@shirdisai.net.au
SUMMARY:Covid 19 Update
DESCRIPTION:
URL:https://shirdisai.net.au/event/covid-19-update/
LOCATION:SHIRDI MANDIR \, CAMBERWELL
END:VEVENT
END:VCALENDAR